BEGIN:VCALENDAR
VERSION:2.0
PRODID:icalendar-ruby
CALSCALE:GREGORIAN
METHOD:PUBLISH
BEGIN:VEVENT
DTSTAMP:20260424T071633Z
UID:55-2194837@flinthills.tithelysetup5.com
DTSTART:20261023T000000Z
DTEND:20261023T020000Z
CLASS:PUBLIC
CREATED:20260423T211133
DESCRIPTION:
LAST-MODIFIED:20260423T211133
LOCATION:Flint Hills Bible Church
SUMMARY:Reach College Ministry 
URL;VALUE=URI:https://www.flinthillsbc.org/events/reach-college-ministry/20
 26-10-22
ATTACH;FILENAME=xenos-to-reach-%281024-x-768-px%29-%281500-x-784-px%29.png;
 FMTTYPE=image/png:https://dq5pwpg1q8ru0.cloudfront.net/2025/09/08/20/07/15
 /711d0c33-344a-4e82-a875-00e7e024bf98/xenos-to-reach-%25281024-x-768-px%25
 29-%25281500-x-784-px%2529.png
END:VEVENT
END:VCALENDAR
