BEGIN:VCALENDAR
VERSION:2.0
PRODID:icalendar-ruby
CALSCALE:GREGORIAN
METHOD:PUBLISH
BEGIN:VEVENT
DTSTAMP:20260424T102759Z
UID:51-2194745@flinthills.tithelysetup5.com
DTSTART:20261015T113000Z
DTEND:20261015T130000Z
CLASS:PUBLIC
CREATED:20260423T211132
DESCRIPTION:
LAST-MODIFIED:20260423T211132
LOCATION:
SUMMARY:Men's Bible Study - Ephesians 
URL;VALUE=URI:https://www.flinthillsbc.org/events/mens-bible-study-ephesian
 s/2026-10-15
ATTACH;FILENAME=2025-Fall-Bible-Study-Flyers-%281300-x-700-px%29-%284%29.pn
 g;FMTTYPE=image/png:https://dq5pwpg1q8ru0.cloudfront.net/2025/12/31/22/03/
 46/3ec08b77-da8a-4cb1-bd76-45b5f3f95d56/2025-Fall-Bible-Study-Flyers-%2528
 1300-x-700-px%2529-%25284%2529.png
END:VEVENT
END:VCALENDAR
