BEGIN:VCALENDAR
VERSION:2.0
PRODID:icalendar-ruby
CALSCALE:GREGORIAN
METHOD:PUBLISH
BEGIN:VEVENT
DTSTAMP:20260421T151054Z
UID:52-2179257@flinthills.tithelysetup5.com
DTSTART:20261013T143000Z
DTEND:20261013T160000Z
CLASS:PUBLIC
CREATED:20260421T090409
DESCRIPTION:
LAST-MODIFIED:20260421T090409
LOCATION:
SUMMARY:Ladies Bible Study - Joshua 
URL;VALUE=URI:https://www.flinthillsbc.org/events/ladies-bible-study-joshua
 /2026-10-13
ATTACH;FILENAME=2025-Fall-Bible-Study-Flyers-%281300-x-700-px%29.png;FMTTYP
 E=image/png:https://dq5pwpg1q8ru0.cloudfront.net/2025/07/23/14/56/24/32673
 7d4-96d7-4a46-b713-4f1411b28fdb/2025-Fall-Bible-Study-Flyers-%25281300-x-7
 00-px%2529.png
END:VEVENT
END:VCALENDAR
